BEGIN:VCALENDAR
VERSION:2.0
PRODID:-//Andcross.ee - ECPv5.16.2.1//NONSGML v1.0//EN
CALSCALE:GREGORIAN
METHOD:PUBLISH
X-WR-CALNAME:Andcross.ee
X-ORIGINAL-URL:https://www.andcross.ee
X-WR-CALDESC:Events for Andcross.ee
BEGIN:VTIMEZONE
TZID:UTC
BEGIN:STANDARD
TZOFFSETFROM:+0000
TZOFFSETTO:+0000
TZNAME:UTC
DTSTART:20260101T000000
END:STANDARD
END:VTIMEZONE
BEGIN:VEVENT
DTSTART;VALUE=DATE:20260707
DTEND;VALUE=DATE:20260708
DTSTAMP:20260421T163201
CREATED:20220620T194559Z
LAST-MODIFIED:20260323T235205Z
UID:11718-1783382400-1783468799@www.andcross.ee
SUMMARY:Lohusuu – Lake Peipus. Nativity of John the Forerunner. Festive Divine Liturgy.
DESCRIPTION:Lohusuu – Lake Peipus. Nativity of John the Forerunner. Festive Divine Liturgy.
URL:https://www.andcross.ee/event/lohusuu-lake-peipus-nativity-of-john-the-forerunner-festive-divine-liturgy/
LOCATION:Lohusuu. Church of the Epiphany\, Järvetee 5\, Lohusuu\, Lohusuu vald\, 42001\, Эстония
ATTACH;FMTTYPE=image/jpeg:https://www.andcross.ee/wp-content/uploads/2021/06/lohusuu_hram_zapado-jug_s_ugla.jpg
ORGANIZER;CN="Andcross%20Pilgrimage%20Center":MAILTO:pilgrim@andcross.ee
END:VEVENT
END:VCALENDAR