BEGIN:VCALENDAR
VERSION:2.0
PRODID:-//Andcross.ee - ECPv5.16.2.1//NONSGML v1.0//EN
CALSCALE:GREGORIAN
METHOD:PUBLISH
X-WR-CALNAME:Andcross.ee
X-ORIGINAL-URL:https://www.andcross.ee
X-WR-CALDESC:Events for Andcross.ee
BEGIN:VTIMEZONE
TZID:UTC
BEGIN:STANDARD
TZOFFSETFROM:+0000
TZOFFSETTO:+0000
TZNAME:UTC
DTSTART:20260101T000000
END:STANDARD
END:VTIMEZONE
BEGIN:VEVENT
DTSTART;VALUE=DATE:20260701
DTEND;VALUE=DATE:20260702
DTSTAMP:20260421T151726
CREATED:20221215T210549Z
LAST-MODIFIED:20260323T234914Z
UID:12508-1782864000-1782950399@www.andcross.ee
SUMMARY:Pühtitsa Dormition Convent. Celebration of the Pühtitsa Icon of the Mother of God. Divine Liturgy.
DESCRIPTION:Pühtitsa Dormition Convent. Celebration of the Pühtitsa Icon of the Mother of God. Divine Liturgy.
URL:https://www.andcross.ee/event/puhtitsa-dormition-convent-celebration-of-the-puhtitsa-icon-of-the-mother-of-god-divine-liturgy/
LOCATION:Pyukhtitsky Assumption Monastery\, Pühtitsa Jumalaema Uinumise Stavropigiaalne Naisklooster\, Kuremäe\, Ida-Viru\, 41201\, Эстония
ATTACH;FMTTYPE=image/jpeg:https://www.andcross.ee/wp-content/uploads/2019/08/pukhtitkii_monastir_4.jpeg
ORGANIZER;CN="Andcross%20Pilgrimage%20Center":MAILTO:pilgrim@andcross.ee
END:VEVENT
END:VCALENDAR