BEGIN:VCALENDAR
VERSION:2.0
PRODID:-//Andcross.ee - ECPv5.16.2.1//NONSGML v1.0//EN
CALSCALE:GREGORIAN
METHOD:PUBLISH
X-WR-CALNAME:Andcross.ee
X-ORIGINAL-URL:https://www.andcross.ee
X-WR-CALDESC:Events for Andcross.ee
BEGIN:VTIMEZONE
TZID:UTC
BEGIN:STANDARD
TZOFFSETFROM:+0000
TZOFFSETTO:+0000
TZNAME:UTC
DTSTART:20260101T000000
END:STANDARD
END:VTIMEZONE
BEGIN:VEVENT
DTSTART;VALUE=DATE:20260531
DTEND;VALUE=DATE:20260601
DTSTAMP:20260421T131816
CREATED:20240610T202554Z
LAST-MODIFIED:20260323T234005Z
UID:12996-1780185600-1780271999@www.andcross.ee
SUMMARY:Türi – Church of the Holy Trinity. Festive Divine Liturgy.
DESCRIPTION:Türi – Church of the Holy Trinity. Festive Divine Liturgy.
URL:https://www.andcross.ee/event/turi-church-of-the-holy-trinity-festive-divine-liturgy/
LOCATION:Türi\, Aia 2b\, Türi\, Järvamaa\, 72212\, Эстония
ATTACH;FMTTYPE=image/png:https://www.andcross.ee/wp-content/uploads/2024/06/image_2024_06_10t20_39_25_524z-1.png
ORGANIZER;CN="Andcross%20Pilgrimage%20Center":MAILTO:pilgrim@andcross.ee
END:VEVENT
END:VCALENDAR