BEGIN:VCALENDAR
VERSION:2.0
PRODID:-//Andcross.ee - ECPv5.16.2.1//NONSGML v1.0//EN
CALSCALE:GREGORIAN
METHOD:PUBLISH
X-WR-CALNAME:Andcross.ee
X-ORIGINAL-URL:https://www.andcross.ee
X-WR-CALDESC:Events for Andcross.ee
BEGIN:VTIMEZONE
TZID:UTC
BEGIN:STANDARD
TZOFFSETFROM:+0000
TZOFFSETTO:+0000
TZNAME:UTC
DTSTART:20250101T000000
END:STANDARD
END:VTIMEZONE
BEGIN:VEVENT
DTSTART;VALUE=DATE:20251227
DTEND;VALUE=DATE:20251228
DTSTAMP:20260421T185528
CREATED:20221215T213837Z
LAST-MODIFIED:20251222T162119Z
UID:12513-1766793600-1766879999@www.andcross.ee
SUMMARY:AZERI. Church of St. Blessed Xenia of St. Petersburg. 10th anniversary of the ordination of Father Vladimir\, rector.
DESCRIPTION:AZERI. Church of St. Blessed Xenia of St. Petersburg. 10th anniversary of the ordination of Father Vladimir\, rector.
URL:https://www.andcross.ee/event/azeri-church-of-st-blessed-xenia-of-st-petersburg-10th-anniversary-of-the-ordination-of-father-vladimir-rector/
LOCATION:AZERI – Church of St. Blessed Ksenia of St. Petersburg\, Pargi 8\, Aseri\, Aseri vald\, 43401\, Эстония
ATTACH;FMTTYPE=image/png:https://www.andcross.ee/wp-content/uploads/2022/05/image_2022_05_16t20_21_22_181z.png
ORGANIZER;CN="Andcross%20Pilgrimage%20Center":MAILTO:pilgrim@andcross.ee
END:VEVENT
END:VCALENDAR