BEGIN:VCALENDAR
VERSION:2.0
PRODID:-//Andcross.ee - ECPv5.16.2.1//NONSGML v1.0//EN
CALSCALE:GREGORIAN
METHOD:PUBLISH
X-WR-CALNAME:Andcross.ee
X-ORIGINAL-URL:https://www.andcross.ee
X-WR-CALDESC:Events for Andcross.ee
BEGIN:VTIMEZONE
TZID:UTC
BEGIN:STANDARD
TZOFFSETFROM:+0000
TZOFFSETTO:+0000
TZNAME:UTC
DTSTART:20250101T000000
END:STANDARD
END:VTIMEZONE
BEGIN:VEVENT
DTSTART;VALUE=DATE:20250810
DTEND;VALUE=DATE:20250814
DTSTAMP:20260422T004711
CREATED:20191211T154108Z
LAST-MODIFIED:20250706T170042Z
UID:13100-1754784000-1755129599@www.andcross.ee
SUMMARY:PECHERY - PSKOV - IZBORSK. Ancient monasteries. Zalito Island.
DESCRIPTION:PECHERY – PSKOV – IZBORSK. Ancient monasteries. Zalito Island.
URL:https://www.andcross.ee/event/pechery-pskov-izborsk-ancient-monasteries-zalito-island/
LOCATION:Печоры Пскова-Печорский монастырь\, Ulitsa Mezhdunarodnaya\, 5\, Pechory\, Pskovskaya oblast'\, 181500\, Российская Федерация
ATTACH;FMTTYPE=image/jpeg:https://www.andcross.ee/wp-content/uploads/2019/09/1254156_original.jpg
ORGANIZER;CN="Andcross%20Pilgrimage%20Center":MAILTO:pilgrim@andcross.ee
END:VEVENT
END:VCALENDAR