BEGIN:VCALENDAR
VERSION:2.0
PRODID:-//Andcross.ee - ECPv5.16.2.1//NONSGML v1.0//EN
CALSCALE:GREGORIAN
METHOD:PUBLISH
X-WR-CALNAME:Andcross.ee
X-ORIGINAL-URL:https://www.andcross.ee
X-WR-CALDESC:Events for Andcross.ee
BEGIN:VTIMEZONE
TZID:UTC
BEGIN:STANDARD
TZOFFSETFROM:+0000
TZOFFSETTO:+0000
TZNAME:UTC
DTSTART:20240101T000000
END:STANDARD
END:VTIMEZONE
BEGIN:VEVENT
DTSTART;VALUE=DATE:20240921
DTEND;VALUE=DATE:20240922
DTSTAMP:20260422T185819
CREATED:20210809T190220Z
LAST-MODIFIED:20240807T195520Z
UID:11528-1726876800-1726963199@www.andcross.ee
SUMMARY:Alajõe. Nativity of the Blessed Virgin Mary. Festive Divine Liturgy.
DESCRIPTION:Alajõe. Nativity of the Blessed Virgin Mary. Festive Divine Liturgy.
URL:https://www.andcross.ee/event/alajoe-nativity-of-the-blessed-virgin-mary-festive-divine-liturgy/
LOCATION:Alajoe-Church of the Nativity of the Most Holy The Virgin Mary.\, Alajoe\, Alajoe vald\, Ida-Virumaa\, 41001\, Эстония
ATTACH;FMTTYPE=image/jpeg:https://www.andcross.ee/wp-content/uploads/2019/09/Алаыйэ-храм-Рождества-Пресвятой.jpg
ORGANIZER;CN="Andcross%20Pilgrimage%20Center":MAILTO:pilgrim@andcross.ee
END:VEVENT
END:VCALENDAR