BEGIN:VCALENDAR
VERSION:2.0
PRODID:-//Andcross.ee - ECPv5.16.2.1//NONSGML v1.0//EN
CALSCALE:GREGORIAN
METHOD:PUBLISH
X-WR-CALNAME:Andcross.ee
X-ORIGINAL-URL:https://www.andcross.ee
X-WR-CALDESC:Events for Andcross.ee
BEGIN:VTIMEZONE
TZID:UTC
BEGIN:STANDARD
TZOFFSETFROM:+0000
TZOFFSETTO:+0000
TZNAME:UTC
DTSTART:20220101T000000
END:STANDARD
END:VTIMEZONE
BEGIN:VEVENT
DTSTART;VALUE=DATE:20220803
DTEND;VALUE=DATE:20220814
DTSTAMP:20260424T114207
CREATED:20220516T212744Z
LAST-MODIFIED:20220516T213407Z
UID:11707-1659484800-1660435199@www.andcross.ee
SUMMARY:GEORGIA - Ancient IBERIA. Tbilisi\, Mtskheta\, Alazan Valley\, Bodbe\, Kutaisi\, Borjomi\, 2 days rest at the Black Sea.
DESCRIPTION:GEORGIA – Ancient IBERIA. Tbilisi\, Mtskheta\, Alazan Valley\, Bodbe\, Kutaisi\, Borjomi\, 2 days rest at the Black Sea.
URL:https://www.andcross.ee/event/georgia-ancient-iberia-tbilisi-mtskheta-alazan-valley-bodbe-kutaisi-borjomi-2-days-rest-at-the-black-sea/
LOCATION:Georgia\, 11 Ioane Shavteli St\, Tbilisi\, Грузия
ATTACH;FMTTYPE=image/jpeg:https://www.andcross.ee/wp-content/uploads/2020/02/36569_20151010_191040.jpg
ORGANIZER;CN="Andcross%20Pilgrimage%20Center":MAILTO:pilgrim@andcross.ee
END:VEVENT
END:VCALENDAR