BEGIN:VCALENDAR
VERSION:2.0
PRODID:-//Andcross.ee - ECPv5.16.2.1//NONSGML v1.0//EN
CALSCALE:GREGORIAN
METHOD:PUBLISH
X-WR-CALNAME:Andcross.ee
X-ORIGINAL-URL:https://www.andcross.ee/?lang=ru
X-WR-CALDESC:Мероприятия для Andcross.ee
BEGIN:VTIMEZONE
TZID:UTC
BEGIN:STANDARD
TZOFFSETFROM:+0000
TZOFFSETTO:+0000
TZNAME:UTC
DTSTART:20220101T000000
END:STANDARD
END:VTIMEZONE
BEGIN:VEVENT
DTSTART;VALUE=DATE:20221102
DTEND;VALUE=DATE:20221112
DTSTAMP:20260422T123959
CREATED:20220620T203951Z
LAST-MODIFIED:20220910T173305Z
UID:11834-1667347200-1668211199@www.andcross.ee
SUMMARY:СВЯТАЯ ЗЕМЛЯ - ИЗРАИЛЬ. Иерусалим\, Вифлием\, Иерихон\, гора Фавор\, Галилея\, монастыри пустыни\, Яффа\, река Иордан. Престольный праздник Горненского монастыря.
DESCRIPTION:СВЯТАЯ ЗЕМЛЯ — ИЗРАИЛЬ. Иерусалим\, Вифлием\, Иерихон\, гора Фавор\, Галилея\, монастыри пустыни\, Яффа\, река Иордан. Престольный праздник Горненского монастыря.
URL:https://www.andcross.ee/event/svyataya-zemlya-izrail-ierusalim-vifliem-ierihon-gora-favor-galileya-monastyri-pustyni-yaffa-reka-iordan-prestolnyj-prazdnik-gornenskogo-monastyrya/?lang=ru
LOCATION:Иерусали́мский храм Воскресе́ния Христо́ва\, более известный как храм Гроба Господня.\, Church of the Holy Sepulchre\, Jerusalem\, Израиль
ATTACH;FMTTYPE=image/jpeg:https://www.andcross.ee/wp-content/uploads/2019/07/Святая-Земля.jpg
ORGANIZER;CN="%D0%9F%D0%B0%D0%BB%D0%BE%D0%BC%D0%BD%D0%B8%D1%87%D0%B5%D1%81%D0%BA%D0%B8%D0%B9%20%D1%86%D0%B5%D0%BD%D1%82%D1%80%20Andcross":MAILTO:pilgrim@andcross.ee
END:VEVENT
END:VCALENDAR