BEGIN:VCALENDAR
VERSION:2.0
PRODID:-//Andcross.ee - ECPv5.16.2.1//NONSGML v1.0//EN
CALSCALE:GREGORIAN
METHOD:PUBLISH
X-WR-CALNAME:Andcross.ee
X-ORIGINAL-URL:https://www.andcross.ee/?lang=ru
X-WR-CALDESC:Мероприятия для Andcross.ee
BEGIN:VTIMEZONE
TZID:UTC
BEGIN:STANDARD
TZOFFSETFROM:+0000
TZOFFSETTO:+0000
TZNAME:UTC
DTSTART:20220101T000000
END:STANDARD
END:VTIMEZONE
BEGIN:VEVENT
DTSTART;VALUE=DATE:20220701
DTEND;VALUE=DATE:20220702
DTSTAMP:20260422T123805
CREATED:20220516T212042Z
LAST-MODIFIED:20220516T212116Z
UID:11701-1656633600-1656719999@www.andcross.ee
SUMMARY:Пюхтицкий Успенский монастырь. Престольный праздник - Божественная Литургия Пюхтицкой иконы Божией Матери.
DESCRIPTION:Пюхтицкий Успенский монастырь. Престольный праздник — Божественная Литургия Пюхтицкой иконы Божией Матери.
URL:https://www.andcross.ee/event/pyuhticzkij-uspenskij-monastyr-prestolnyj-prazdnik-bozhestvennaya-liturgiya-pyuhticzkoj-ikony-bozhiej-materi/?lang=ru
LOCATION:Пюхтицкий Успенский монастырь\, Pühtitsa Jumalaema Uinumise Stavropigiaalne Naisklooster\, Kuremäe\, Ida-Viru\, 41201\, Эстония
ATTACH;FMTTYPE=image/jpeg:https://www.andcross.ee/wp-content/uploads/2019/08/pukhtitkii_monastir_4.jpeg
ORGANIZER;CN="%D0%9F%D0%B0%D0%BB%D0%BE%D0%BC%D0%BD%D0%B8%D1%87%D0%B5%D1%81%D0%BA%D0%B8%D0%B9%20%D1%86%D0%B5%D0%BD%D1%82%D1%80%20Andcross":MAILTO:pilgrim@andcross.ee
END:VEVENT
END:VCALENDAR