BEGIN:VCALENDAR
VERSION:2.0
PRODID:-//Andcross.ee - ECPv5.16.2.1//NONSGML v1.0//EN
CALSCALE:GREGORIAN
METHOD:PUBLISH
X-WR-CALNAME:Andcross.ee
X-ORIGINAL-URL:https://www.andcross.ee
X-WR-CALDESC:Events for Andcross.ee
BEGIN:VTIMEZONE
TZID:UTC
BEGIN:STANDARD
TZOFFSETFROM:+0000
TZOFFSETTO:+0000
TZNAME:UTC
DTSTART:20210101T000000
END:STANDARD
END:VTIMEZONE
BEGIN:VEVENT
DTSTART;VALUE=DATE:20210701
DTEND;VALUE=DATE:20210702
DTSTAMP:20260422T104723
CREATED:20210616T193748Z
LAST-MODIFIED:20210616T205016Z
UID:11404-1625097600-1625183999@www.andcross.ee
SUMMARY:Pyuchtitsky Assumption Monastery July 01
DESCRIPTION:October 14 The Intercession of the Most Holy Theotokos.
URL:https://www.andcross.ee/event/pyuchtitsky-assumption-monastery-july-01/
LOCATION:Pyukhtitsky Assumption Monastery\, Pühtitsa Jumalaema Uinumise Stavropigiaalne Naisklooster\, Kuremäe\, Ida-Viru\, 41201\, Эстония
ATTACH;FMTTYPE=image/jpeg:https://www.andcross.ee/wp-content/uploads/2019/08/pukhtitkii_monastir_4.jpeg
ORGANIZER;CN="Andcross%20Pilgrimage%20Center":MAILTO:pilgrim@andcross.ee
END:VEVENT
END:VCALENDAR