BEGIN:VCALENDAR
VERSION:2.0
PRODID:-//Andcross.ee - ECPv5.16.2.1//NONSGML v1.0//EN
CALSCALE:GREGORIAN
METHOD:PUBLISH
X-WR-CALNAME:Andcross.ee
X-ORIGINAL-URL:https://www.andcross.ee
X-WR-CALDESC:Events for Andcross.ee
BEGIN:VTIMEZONE
TZID:UTC
BEGIN:STANDARD
TZOFFSETFROM:+0000
TZOFFSETTO:+0000
TZNAME:UTC
DTSTART:20240101T000000
END:STANDARD
END:VTIMEZONE
BEGIN:VEVENT
DTSTART;VALUE=DATE:20241220
DTEND;VALUE=DATE:20241224
DTSTAMP:20260422T105503
CREATED:20200206T181208Z
LAST-MODIFIED:20241029T184610Z
UID:12930-1734652800-1734998399@www.andcross.ee
SUMMARY:PSKOV - PECHORY - VELIKY NOVGOROD. Varlaama-Khutynsky and Yuriev monasteries\, the Kremlin and St. Sophia Cathedral\, the Faceted Chamber. Snetogorsky and Krypetsky monasteries\, temples of Pskov. Pskov-Pechersk Monastery.
DESCRIPTION:PSKOV – PECHORY – VELIKY NOVGOROD. Varlaama-Khutynsky and Yuriev monasteries\, the Kremlin and St. Sophia Cathedral\, the Faceted Chamber. Snetogorsky and Krypetsky monasteries\, temples of Pskov. Pskov-Pechersk Monastery.
URL:https://www.andcross.ee/event/pskov-pechory-veliky-novgorod-varlaama-khutynsky-and-yuriev-monasteries-the-kremlin-and-st-sophia-cathedral-the-faceted-chamber-snetogorsky-and-krypetsky-monasteries-temples-of-pskov-pskov/
LOCATION:Печоры Пскова-Печорский монастырь\, Ulitsa Mezhdunarodnaya\, 5\, Pechory\, Pskovskaya oblast'\, 181500\, Российская Федерация
ATTACH;FMTTYPE=image/jpeg:https://www.andcross.ee/wp-content/uploads/2019/09/1254156_original.jpg
ORGANIZER;CN="Andcross%20Pilgrimage%20Center":MAILTO:pilgrim@andcross.ee
END:VEVENT
END:VCALENDAR