BEGIN:VCALENDAR
VERSION:2.0
PRODID:-//Andcross.ee - ECPv5.16.2.1//NONSGML v1.0//EN
CALSCALE:GREGORIAN
METHOD:PUBLISH
X-WR-CALNAME:Andcross.ee
X-ORIGINAL-URL:https://www.andcross.ee/?lang=ru
X-WR-CALDESC:Мероприятия для Andcross.ee
BEGIN:VTIMEZONE
TZID:UTC
BEGIN:STANDARD
TZOFFSETFROM:+0000
TZOFFSETTO:+0000
TZNAME:UTC
DTSTART:20240101T000000
END:STANDARD
END:VTIMEZONE
BEGIN:VEVENT
DTSTART;VALUE=DATE:20241220
DTEND;VALUE=DATE:20241224
DTSTAMP:20260422T123902
CREATED:20200206T181208Z
LAST-MODIFIED:20241029T184539Z
UID:4116-1734652800-1734998399@www.andcross.ee
SUMMARY:ПСКОВ - ПЕЧОРЫ - ВЕЛИКИЙ НОВГОРОД. Варлаама-Хутынский и Юрьев монастыри\, Кремль и Софийский собор\, Гранавитая Палата. Снетогорский и Крыпецкий монастыри\, храмы Пскова. Псково-Печорский монастырь.
DESCRIPTION:ПСКОВ — ПЕЧОРЫ — ВЕЛИКИЙ НОВГОРОД. Варлаама-Хутынский и Юрьев монастыри\, Кремль и Софийский собор\, Гранавитая Палата. Снетогорский и Крыпецкий монастыри\, храмы Пскова. Псково-Печорский монастырь.
URL:https://www.andcross.ee/event/pskov-pechory-velikij-novgorod-varlaama-hutynskij-i-yurev-monastyri-kreml-i-sofijskij-sobor-granavitaya-palata-snetogorskij-i-krypeczkij-monastyri-hramy-pskova-pskovo-pechorskij-monastyr/?lang=ru
LOCATION:Печоры Пскова-Печорский монастырь\, Ulitsa Mezhdunarodnaya\, 5\, Pechory\, Pskovskaya oblast'\, 181500\, Российская Федерация
ATTACH;FMTTYPE=image/jpeg:https://www.andcross.ee/wp-content/uploads/2019/09/1254156_original.jpg
ORGANIZER;CN="%D0%9F%D0%B0%D0%BB%D0%BE%D0%BC%D0%BD%D0%B8%D1%87%D0%B5%D1%81%D0%BA%D0%B8%D0%B9%20%D1%86%D0%B5%D0%BD%D1%82%D1%80%20Andcross":MAILTO:pilgrim@andcross.ee
END:VEVENT
END:VCALENDAR