BEGIN:VCALENDAR
VERSION:2.0
PRODID:-//Andcross.ee - ECPv5.16.2.1//NONSGML v1.0//EN
CALSCALE:GREGORIAN
METHOD:PUBLISH
X-WR-CALNAME:Andcross.ee
X-ORIGINAL-URL:https://www.andcross.ee/?lang=ru
X-WR-CALDESC:Мероприятия для Andcross.ee
BEGIN:VTIMEZONE
TZID:UTC
BEGIN:STANDARD
TZOFFSETFROM:+0000
TZOFFSETTO:+0000
TZNAME:UTC
DTSTART:20210101T000000
END:STANDARD
END:VTIMEZONE
BEGIN:VEVENT
DTSTART;VALUE=DATE:20210819
DTEND;VALUE=DATE:20210820
DTSTAMP:20260420T111715
CREATED:20210808T144109Z
LAST-MODIFIED:20210808T144109Z
UID:11510-1629331200-1629417599@www.andcross.ee
SUMMARY:19 августа - ПЯРНУ.  Храм Вмц. Екатерины.
DESCRIPTION:
URL:https://www.andcross.ee/event/parnu-hram-ekateriny-2021-19-avgusta/?lang=ru
LOCATION:Храм Екатерины\, Vee 8\, Pärnu\, Pärnu maakond\, 80011\, Эстония
ATTACH;FMTTYPE=image/jpeg:https://www.andcross.ee/wp-content/uploads/2019/09/den-gront-och-gult-fargade.jpg
ORGANIZER;CN="%D0%9F%D0%B0%D0%BB%D0%BE%D0%BC%D0%BD%D0%B8%D1%87%D0%B5%D1%81%D0%BA%D0%B8%D0%B9%20%D1%86%D0%B5%D0%BD%D1%82%D1%80%20Andcross":MAILTO:pilgrim@andcross.ee
END:VEVENT
END:VCALENDAR