BEGIN:VCALENDAR
VERSION:2.0
PRODID:-//Andcross.ee - ECPv5.16.2.1//NONSGML v1.0//EN
CALSCALE:GREGORIAN
METHOD:PUBLISH
X-WR-CALNAME:Andcross.ee
X-ORIGINAL-URL:https://www.andcross.ee/?lang=ru
X-WR-CALDESC:Мероприятия для Andcross.ee
BEGIN:VTIMEZONE
TZID:UTC
BEGIN:STANDARD
TZOFFSETFROM:+0000
TZOFFSETTO:+0000
TZNAME:UTC
DTSTART:20250101T000000
END:STANDARD
END:VTIMEZONE
BEGIN:VEVENT
DTSTART;VALUE=DATE:20251014
DTEND;VALUE=DATE:20251015
DTSTAMP:20260422T123451
CREATED:20250923T172541Z
LAST-MODIFIED:20250923T172541Z
UID:13125-1760400000-1760486399@www.andcross.ee
SUMMARY:НИИНА - Чудское озеро. Покров Пресвятой Богородицы. Престольный праздник.
DESCRIPTION:НИИНА — Чудское озеро. Покров Пресвятой Богородицы. Престольный праздник.
URL:https://www.andcross.ee/event/niina-chudskoe-ozero-pokrov-presvyatoj-bogorodiczy-prestolnyj-prazdnik/?lang=ru
LOCATION:Niina\, Alatskivi vald\, Niina\, Tartumaa\, 60201\, Эстония
ATTACH;FMTTYPE=image/jpeg:https://www.andcross.ee/wp-content/uploads/2025/09/photo_2025-09-23_20-20-12.jpg
ORGANIZER;CN="%D0%9F%D0%B0%D0%BB%D0%BE%D0%BC%D0%BD%D0%B8%D1%87%D0%B5%D1%81%D0%BA%D0%B8%D0%B9%20%D1%86%D0%B5%D0%BD%D1%82%D1%80%20Andcross":MAILTO:pilgrim@andcross.ee
END:VEVENT
END:VCALENDAR