BEGIN:VCALENDAR
VERSION:2.0
PRODID:-//Andcross.ee - ECPv5.16.2.1//NONSGML v1.0//EN
CALSCALE:GREGORIAN
METHOD:PUBLISH
X-WR-CALNAME:Andcross.ee
X-ORIGINAL-URL:https://www.andcross.ee/?lang=ru
X-WR-CALDESC:Мероприятия для Andcross.ee
BEGIN:VTIMEZONE
TZID:UTC
BEGIN:STANDARD
TZOFFSETFROM:+0000
TZOFFSETTO:+0000
TZNAME:UTC
DTSTART:20220101T000000
END:STANDARD
END:VTIMEZONE
BEGIN:VEVENT
DTSTART;VALUE=DATE:20220614
DTEND;VALUE=DATE:20220615
DTSTAMP:20260422T122323
CREATED:20220516T203332Z
LAST-MODIFIED:20220516T205254Z
UID:11679-1655164800-1655251199@www.andcross.ee
SUMMARY:ЛОКСА - храм св. прав. Иоанна Кронштадтского.  Престольный праздник — Божественная Литургия.
DESCRIPTION:ЛОКСА — храм св. прав. Иоанна Кронштадтского.  Престольный праздник — Божественная Литургия.
URL:https://www.andcross.ee/event/loksa-hram-sv-prav-ioanna-kronshtadtskogo-prestolnyj-prazdnik-bozhestvennaya-liturgiya/?lang=ru
LOCATION:ЛОКСА\, Posti 17A\, Loksa\, Harjumaa\, 74805\, Эстония
ATTACH;FMTTYPE=image/jpeg:https://www.andcross.ee/wp-content/uploads/2022/05/48fad62bbdaf3fef740b5cdf7ef5254b.jpg
ORGANIZER;CN="%D0%9F%D0%B0%D0%BB%D0%BE%D0%BC%D0%BD%D0%B8%D1%87%D0%B5%D1%81%D0%BA%D0%B8%D0%B9%20%D1%86%D0%B5%D0%BD%D1%82%D1%80%20Andcross":MAILTO:pilgrim@andcross.ee
END:VEVENT
END:VCALENDAR