BEGIN:VCALENDAR
VERSION:2.0
PRODID:-//Andcross.ee - ECPv5.16.2.1//NONSGML v1.0//EN
CALSCALE:GREGORIAN
METHOD:PUBLISH
X-WR-CALNAME:Andcross.ee
X-ORIGINAL-URL:https://www.andcross.ee
X-WR-CALDESC:Events for Andcross.ee
BEGIN:VTIMEZONE
TZID:UTC
BEGIN:STANDARD
TZOFFSETFROM:+0000
TZOFFSETTO:+0000
TZNAME:UTC
DTSTART:20210101T000000
END:STANDARD
END:VTIMEZONE
BEGIN:VEVENT
DTSTART;VALUE=DATE:20210707
DTEND;VALUE=DATE:20210708
DTSTAMP:20260420T112240
CREATED:20210616T194351Z
LAST-MODIFIED:20210616T204900Z
UID:11408-1625616000-1625702399@www.andcross.ee
SUMMARY:LOHUSUU-the Church of the Epiphany. Lake Peipsi. July 07
DESCRIPTION:
URL:https://www.andcross.ee/event/lohusuu-the-church-of-the-epiphany-lake-peipsi-july-07/
LOCATION:Lohusuu. Church of the Epiphany\, Järvetee 5\, Lohusuu\, Lohusuu vald\, 42001\, Эстония
ATTACH;FMTTYPE=image/jpeg:https://www.andcross.ee/wp-content/uploads/2021/06/lohusuu_hram_zapado-jug_s_ugla.jpg
ORGANIZER;CN="Andcross%20Pilgrimage%20Center":MAILTO:pilgrim@andcross.ee
END:VEVENT
END:VCALENDAR