BEGIN:VCALENDAR
VERSION:2.0
PRODID:-//Andcross.ee - ECPv5.16.2.1//NONSGML v1.0//EN
CALSCALE:GREGORIAN
METHOD:PUBLISH
X-WR-CALNAME:Andcross.ee
X-ORIGINAL-URL:https://www.andcross.ee
X-WR-CALDESC:Events for Andcross.ee
BEGIN:VTIMEZONE
TZID:UTC
BEGIN:STANDARD
TZOFFSETFROM:+0000
TZOFFSETTO:+0000
TZNAME:UTC
DTSTART:20210101T000000
END:STANDARD
END:VTIMEZONE
BEGIN:VEVENT
DTSTART;VALUE=DATE:20210721
DTEND;VALUE=DATE:20210722
DTSTAMP:20260422T100905
CREATED:20210616T200559Z
LAST-MODIFIED:20210616T205935Z
UID:11416-1626825600-1626911999@www.andcross.ee
SUMMARY:July 21-NARVA-Resurrection Cathedral-Sillamae.
DESCRIPTION:The first anniversary of the visit to the Cathedral of Narva of the Icon of the Mother of God “Troeruchitsa” (a gift from Mount Athos ).
URL:https://www.andcross.ee/event/july-21-narva-resurrection-cathedral-sillamae/
LOCATION:Narva\, Bastrakovi 4\, Narva\, 20308\, Эстония
ATTACH;FMTTYPE=image/jpeg:https://www.andcross.ee/wp-content/uploads/2020/09/narva.jpg
ORGANIZER;CN="Andcross%20Pilgrimage%20Center":MAILTO:pilgrim@andcross.ee
END:VEVENT
END:VCALENDAR