BEGIN:VCALENDAR
VERSION:2.0
PRODID:-//Andcross.ee - ECPv5.16.2.1//NONSGML v1.0//EN
CALSCALE:GREGORIAN
METHOD:PUBLISH
X-WR-CALNAME:Andcross.ee
X-ORIGINAL-URL:https://www.andcross.ee/?lang=ru
X-WR-CALDESC:Мероприятия для Andcross.ee
BEGIN:VTIMEZONE
TZID:UTC
BEGIN:STANDARD
TZOFFSETFROM:+0000
TZOFFSETTO:+0000
TZNAME:UTC
DTSTART:20230101T000000
END:STANDARD
END:VTIMEZONE
BEGIN:VEVENT
DTSTART;VALUE=DATE:20231113
DTEND;VALUE=DATE:20231121
DTSTAMP:20260422T101009
CREATED:20230618T181515Z
LAST-MODIFIED:20231023T182254Z
UID:12823-1699833600-1700524799@www.andcross.ee
SUMMARY:Внимание! В связи с военными действиями на территории государства Израиль отменены паломнические поездки на Святую Землю.
DESCRIPTION:ИЗРАИЛЬ — СВЯТАЯ ЗЕМЛЯ. (основная классическая программа\, составленная Русской Духовной Миссией\, удобный перелет).
URL:https://www.andcross.ee/event/izrail-svyataya-zemlya-osnovnaya-klassicheskaya-programma/?lang=ru
LOCATION:Иерусали́мский храм Воскресе́ния Христо́ва\, более известный как храм Гроба Господня.\, Church of the Holy Sepulchre\, Jerusalem\, Израиль
ATTACH;FMTTYPE=image/jpeg:https://www.andcross.ee/wp-content/uploads/2023/06/srael-–-a-holy-land-1-osnovnaya-jpeg.jpeg
ORGANIZER;CN="%D0%9F%D0%B0%D0%BB%D0%BE%D0%BC%D0%BD%D0%B8%D1%87%D0%B5%D1%81%D0%BA%D0%B8%D0%B9%20%D1%86%D0%B5%D0%BD%D1%82%D1%80%20Andcross":MAILTO:pilgrim@andcross.ee
END:VEVENT
END:VCALENDAR