BEGIN:VCALENDAR
VERSION:2.0
PRODID:-//Andcross.ee - ECPv5.16.2.1//NONSGML v1.0//EN
CALSCALE:GREGORIAN
METHOD:PUBLISH
X-WR-CALNAME:Andcross.ee
X-ORIGINAL-URL:https://www.andcross.ee
X-WR-CALDESC:Events for Andcross.ee
BEGIN:VTIMEZONE
TZID:UTC
BEGIN:STANDARD
TZOFFSETFROM:+0000
TZOFFSETTO:+0000
TZNAME:UTC
DTSTART:20230101T000000
END:STANDARD
END:VTIMEZONE
BEGIN:VEVENT
DTSTART;VALUE=DATE:20231027
DTEND;VALUE=DATE:20231107
DTSTAMP:20260420T095429
CREATED:20230205T204443Z
LAST-MODIFIED:20231023T182418Z
UID:12721-1698364800-1699315199@www.andcross.ee
SUMMARY:Attention! In connection with military operations in the territory of the State of Israel\, pilgrimage trips to the Holy Land have been canceled.
DESCRIPTION:ISRAEL – A HOLY LAND. Jerusalem\, Nazareth\, Bethlehem\, Jaffa\, Jericho\, Galilee\, Jordan River\, Cana of Galilee. Gornensky Convent – the patronal feast of the Kazan Icon of the Mother of God.
URL:https://www.andcross.ee/event/israel-a-holy-land-jerusalem-nazareth-bethlehem-jaffa-jericho-galilee-jordan-river-cana-of-galilee-gornensky-convent-the-patronal-feast-of-the-kazan-icon-of-the-mother-of-god/
LOCATION:The Church of the Resurrection in Jerusalem\, better known as the Church of the Holy Sepulchre.\, Church of the Holy Sepulchre\, Jerusalem\, Израиль
ATTACH;FMTTYPE=image/jpeg:https://www.andcross.ee/wp-content/uploads/2019/07/Святая-Земля.jpg
ORGANIZER;CN="Andcross%20Pilgrimage%20Center":MAILTO:pilgrim@andcross.ee
END:VEVENT
END:VCALENDAR