BEGIN:VCALENDAR
VERSION:2.0
PRODID:-//Andcross.ee - ECPv5.16.2.1//NONSGML v1.0//EN
CALSCALE:GREGORIAN
METHOD:PUBLISH
X-WR-CALNAME:Andcross.ee
X-ORIGINAL-URL:https://www.andcross.ee
X-WR-CALDESC:Events for Andcross.ee
BEGIN:VTIMEZONE
TZID:UTC
BEGIN:STANDARD
TZOFFSETFROM:+0000
TZOFFSETTO:+0000
TZNAME:UTC
DTSTART:20240101T000000
END:STANDARD
END:VTIMEZONE
BEGIN:VEVENT
DTSTART;VALUE=DATE:20240802
DTEND;VALUE=DATE:20240803
DTSTAMP:20260422T104910
CREATED:20220620T200721Z
LAST-MODIFIED:20240610T205101Z
UID:11832-1722556800-1722643199@www.andcross.ee
SUMMARY:ILYINSKY SKIT - PUKHTITSY. Festive The Divine Liturgy.
DESCRIPTION:ILYINSKY SKIT – PUKHTITSY. Festive The Divine Liturgy.
URL:https://www.andcross.ee/event/ilyinsky-skit-pukhtitsy-festive-the-divine-liturgy/
LOCATION:Pyukhtitsky Assumption Monastery\, Pühtitsa Jumalaema Uinumise Stavropigiaalne Naisklooster\, Kuremäe\, Ida-Viru\, 41201\, Эстония
ATTACH;FMTTYPE=image/jpeg:https://www.andcross.ee/wp-content/uploads/2022/06/ilyinsky-skete-1-osnovnaya-scaled.jpeg
ORGANIZER;CN="Andcross%20Pilgrimage%20Center":MAILTO:pilgrim@andcross.ee
END:VEVENT
END:VCALENDAR