BEGIN:VCALENDAR
VERSION:2.0
PRODID:-//Andcross.ee - ECPv5.16.2.1//NONSGML v1.0//EN
CALSCALE:GREGORIAN
METHOD:PUBLISH
X-WR-CALNAME:Andcross.ee
X-ORIGINAL-URL:https://www.andcross.ee/?lang=ru
X-WR-CALDESC:Мероприятия для Andcross.ee
BEGIN:VTIMEZONE
TZID:UTC
BEGIN:STANDARD
TZOFFSETFROM:+0000
TZOFFSETTO:+0000
TZNAME:UTC
DTSTART:20240101T000000
END:STANDARD
END:VTIMEZONE
BEGIN:VEVENT
DTSTART;VALUE=DATE:20240802
DTEND;VALUE=DATE:20240803
DTSTAMP:20260422T122314
CREATED:20220620T200721Z
LAST-MODIFIED:20240610T205005Z
UID:11824-1722556800-1722643199@www.andcross.ee
SUMMARY:ИЛЬИНСКИЙ СКИТ - ПЮХТИЦЫ. Праздничная Божественная Литургия.
DESCRIPTION:ИЛЬИНСКИЙ СКИТ — ПЮХТИЦЫ. Праздничная Божественная Литургия.
URL:https://www.andcross.ee/event/ilinskij-skit-pyuhticzy-prazdnichnaya-bozhestvennaya-liturgiya/?lang=ru
LOCATION:Пюхтицкий Успенский монастырь\, Pühtitsa Jumalaema Uinumise Stavropigiaalne Naisklooster\, Kuremäe\, Ida-Viru\, 41201\, Эстония
ATTACH;FMTTYPE=image/jpeg:https://www.andcross.ee/wp-content/uploads/2022/06/ilyinsky-skete-1-osnovnaya-scaled.jpeg
ORGANIZER;CN="%D0%9F%D0%B0%D0%BB%D0%BE%D0%BC%D0%BD%D0%B8%D1%87%D0%B5%D1%81%D0%BA%D0%B8%D0%B9%20%D1%86%D0%B5%D0%BD%D1%82%D1%80%20Andcross":MAILTO:pilgrim@andcross.ee
END:VEVENT
END:VCALENDAR