BEGIN:VCALENDAR
VERSION:2.0
PRODID:-//Andcross.ee - ECPv5.16.2.1//NONSGML v1.0//EN
CALSCALE:GREGORIAN
METHOD:PUBLISH
X-WR-CALNAME:Andcross.ee
X-ORIGINAL-URL:https://www.andcross.ee/?lang=ru
X-WR-CALDESC:Мероприятия для Andcross.ee
BEGIN:VTIMEZONE
TZID:UTC
BEGIN:STANDARD
TZOFFSETFROM:+0000
TZOFFSETTO:+0000
TZNAME:UTC
DTSTART:20210101T000000
END:STANDARD
END:VTIMEZONE
BEGIN:VEVENT
DTSTART;VALUE=DATE:20211230
DTEND;VALUE=DATE:20211231
DTSTAMP:20260422T101245
CREATED:20211016T174503Z
LAST-MODIFIED:20211016T174503Z
UID:11644-1640822400-1640908799@www.andcross.ee
SUMMARY:30 декабря РАКВЕРЕ. Храм Рождества Пресвятой Богородицы. День памяти Свщмч. Сергия Раквереского. Крестный ход.
DESCRIPTION:Раквере. Храм Рождества Пресвятой Богородицы. День памяти Свщмч. Сергия Раквереского. Крестный ход.
URL:https://www.andcross.ee/event/30-dekabrya-rakvere-hram-rozhdestva-presvyatoj-bogorodiczy-den-pamyati-svshhmch-sergiya-rakvereskogo-krestnyj-hod/?lang=ru
LOCATION:rakvere\, Tallinna 17\, Rakvere\, Lääne-Viru maakond\, 44306
ATTACH;FMTTYPE=image/jpeg:https://www.andcross.ee/wp-content/uploads/2019/12/rakvere_hram_jugo-vostok.jpg
ORGANIZER;CN="%D0%9F%D0%B0%D0%BB%D0%BE%D0%BC%D0%BD%D0%B8%D1%87%D0%B5%D1%81%D0%BA%D0%B8%D0%B9%20%D1%86%D0%B5%D0%BD%D1%82%D1%80%20Andcross":MAILTO:pilgrim@andcross.ee
END:VEVENT
END:VCALENDAR