BEGIN:VCALENDAR
VERSION:2.0
PRODID:-//Andcross.ee - ECPv5.16.2.1//NONSGML v1.0//EN
CALSCALE:GREGORIAN
METHOD:PUBLISH
X-WR-CALNAME:Andcross.ee
X-ORIGINAL-URL:https://www.andcross.ee
X-WR-CALDESC:Events for Andcross.ee
BEGIN:VTIMEZONE
TZID:UTC
BEGIN:STANDARD
TZOFFSETFROM:+0000
TZOFFSETTO:+0000
TZNAME:UTC
DTSTART:20210101T000000
END:STANDARD
END:VTIMEZONE
BEGIN:VEVENT
DTSTART;VALUE=DATE:20210627
DTEND;VALUE=DATE:20210628
DTSTAMP:20260422T105029
CREATED:20210616T193454Z
LAST-MODIFIED:20210616T202403Z
UID:11398-1624752000-1624838399@www.andcross.ee
SUMMARY:27 June PÄRNU-VIC Church. Catherine. Divine Liturgy - All Saints
DESCRIPTION:
URL:https://www.andcross.ee/event/27-june-parnu-vic-church-catherine-divine-liturgy-all-saints/
LOCATION:Catherine’s Church\, Vee 8\, Pärnu\, Pärnu maakond\, 80011\, Эстония
ATTACH;FMTTYPE=image/jpeg:https://www.andcross.ee/wp-content/uploads/2019/09/den-gront-och-gult-fargade.jpg
ORGANIZER;CN="Andcross%20Pilgrimage%20Center":MAILTO:pilgrim@andcross.ee
END:VEVENT
END:VCALENDAR